BEGIN:VCALENDAR
VERSION:2.0
PRODID:-//81.201.148.31//NONSGML kigkonsult.se iCalcreator 2.41.92//
CALSCALE:GREGORIAN
METHOD:PUBLISH
UID:39636139-6234-4132-a635-656639633830
X-WR-CALNAME:KOKOS IMPORT Theatertermine
X-WR-CALDESC:
X-WR-TIMEZONE:Europe/Berlin
BEGIN:VEVENT
UID:32333032-6632-4338-a463-623733386566
DTSTAMP:20260421T102819Z
DESCRIPTION:
DTSTART:20260315T130000
DTEND:20260315T150000
SUMMARY:Offene Kirche
END:VEVENT
END:VCALENDAR
