BEGIN:VCALENDAR
VERSION:2.0
PRODID:-//81.201.148.31//NONSGML kigkonsult.se iCalcreator 2.41.92//
CALSCALE:GREGORIAN
METHOD:PUBLISH
UID:65643734-3435-4438-b831-383231633834
X-WR-CALNAME:KOKOS IMPORT Theatertermine
X-WR-CALDESC:
X-WR-TIMEZONE:Europe/Berlin
BEGIN:VEVENT
UID:64353539-6636-4864-a533-613230366433
DTSTAMP:20260419T180832Z
DESCRIPTION:
DTSTART:20260322T123000
DTEND:20260322T170000
SUMMARY:Offene Kirche
END:VEVENT
END:VCALENDAR
