BEGIN:VCALENDAR
VERSION:2.0
PRODID:-//81.201.148.31//NONSGML kigkonsult.se iCalcreator 2.41.92//
CALSCALE:GREGORIAN
METHOD:PUBLISH
UID:33346433-6165-4363-b439-383865666335
X-WR-CALNAME:KOKOS IMPORT Theatertermine
X-WR-CALDESC:
X-WR-TIMEZONE:Europe/Berlin
BEGIN:VEVENT
UID:66346262-3033-4537-a433-653961323566
DTSTAMP:20260420T101021Z
DESCRIPTION:
DTSTART:20260419T130000
DTEND:20260419T150000
SUMMARY:Offene Kirche
END:VEVENT
END:VCALENDAR
