BEGIN:VCALENDAR
VERSION:2.0
PRODID:-//81.201.148.31//NONSGML kigkonsult.se iCalcreator 2.41.92//
CALSCALE:GREGORIAN
METHOD:PUBLISH
UID:32346537-3562-4336-b963-613261356632
X-WR-CALNAME:KOKOS IMPORT Theatertermine
X-WR-CALDESC:
X-WR-TIMEZONE:Europe/Berlin
BEGIN:VEVENT
UID:65366233-6365-4332-a566-333433643532
DTSTAMP:20260421T054050Z
DESCRIPTION:
DTSTART:20260503T130000
DTEND:20260503T150000
SUMMARY:Offene Kirche
END:VEVENT
END:VCALENDAR
