BEGIN:VCALENDAR
VERSION:2.0
PRODID:-//81.201.148.31//NONSGML kigkonsult.se iCalcreator 2.41.92//
CALSCALE:GREGORIAN
METHOD:PUBLISH
UID:61353861-3433-4263-b364-653832396362
X-WR-CALNAME:KOKOS IMPORT Theatertermine
X-WR-CALDESC:
X-WR-TIMEZONE:Europe/Berlin
BEGIN:VEVENT
UID:36363761-3133-4765-b163-303530643265
DTSTAMP:20260421T155124Z
DESCRIPTION:
DTSTART:20260510T130000
DTEND:20260510T170000
SUMMARY:Offene Kirche
END:VEVENT
END:VCALENDAR
