BEGIN:VCALENDAR
VERSION:2.0
PRODID:-//81.201.148.31//NONSGML kigkonsult.se iCalcreator 2.41.92//
CALSCALE:GREGORIAN
METHOD:PUBLISH
UID:65303735-3635-4631-b636-666430613762
X-WR-CALNAME:KOKOS IMPORT Theatertermine
X-WR-CALDESC:
X-WR-TIMEZONE:Europe/Berlin
BEGIN:VEVENT
UID:36653132-6261-4566-b665-636462646336
DTSTAMP:20260423T093535Z
DESCRIPTION:
DTSTART:20261101T123000
DTEND:20261101T170000
SUMMARY:Offene Kirche
END:VEVENT
END:VCALENDAR
