BEGIN:VCALENDAR
VERSION:2.0
PRODID:-//81.201.148.31//NONSGML kigkonsult.se iCalcreator 2.41.92//
CALSCALE:GREGORIAN
METHOD:PUBLISH
UID:32316138-3735-4636-b465-336337313739
X-WR-CALNAME:KOKOS IMPORT Theatertermine
X-WR-CALDESC:
X-WR-TIMEZONE:Europe/Berlin
BEGIN:VEVENT
UID:62323139-3136-4062-a662-306538653534
DTSTAMP:20260423T093308Z
DESCRIPTION:
DTSTART:20261108T123000
DTEND:20261108T170000
SUMMARY:Offene Kirche
END:VEVENT
END:VCALENDAR
