BEGIN:VCALENDAR
VERSION:2.0
PRODID:-//81.201.148.31//NONSGML kigkonsult.se iCalcreator 2.41.92//
CALSCALE:GREGORIAN
METHOD:PUBLISH
UID:66356237-3631-4163-b966-323833343631
X-WR-CALNAME:KOKOS IMPORT Theatertermine
X-WR-CALDESC:
X-WR-TIMEZONE:Europe/Berlin
BEGIN:VEVENT
UID:30633136-3663-4430-b863-636361336338
DTSTAMP:20260423T104628Z
DESCRIPTION:
DTSTART:20261115T123000
DTEND:20261115T170000
SUMMARY:Offene Kirche
END:VEVENT
END:VCALENDAR
