BEGIN:VCALENDAR
VERSION:2.0
PRODID:-//81.201.148.31//NONSGML kigkonsult.se iCalcreator 2.41.92//
CALSCALE:GREGORIAN
METHOD:PUBLISH
UID:62636462-3261-4130-b236-653535663638
X-WR-CALNAME:KOKOS IMPORT Theatertermine
X-WR-CALDESC:
X-WR-TIMEZONE:Europe/Berlin
BEGIN:VEVENT
UID:63306566-6465-4034-a333-376237326363
DTSTAMP:20260421T053920Z
DESCRIPTION:
DTSTART:20260501T100000
DTEND:20260501T120000
SUMMARY:Offene Kirche
END:VEVENT
END:VCALENDAR
