BEGIN:VCALENDAR
VERSION:2.0
PRODID:-//81.201.148.31//NONSGML kigkonsult.se iCalcreator 2.41.92//
CALSCALE:GREGORIAN
METHOD:PUBLISH
UID:32336638-3637-4463-b463-366632643835
X-WR-CALNAME:KOKOS IMPORT Theatertermine
X-WR-CALDESC:
X-WR-TIMEZONE:Europe/Berlin
BEGIN:VEVENT
UID:61633631-3765-4366-a338-636134396532
DTSTAMP:20260420T130622Z
DESCRIPTION:
DTSTART:20260419T193000
DTEND:20260419T220000
SUMMARY:Offene Kirche
END:VEVENT
END:VCALENDAR
