BEGIN:VCALENDAR
VERSION:2.0
PRODID:-//81.201.148.31//NONSGML kigkonsult.se iCalcreator 2.41.92//
CALSCALE:GREGORIAN
METHOD:PUBLISH
UID:31313738-6462-4362-b563-363632393261
X-WR-CALNAME:KOKOS IMPORT Theatertermine
X-WR-CALDESC:
X-WR-TIMEZONE:Europe/Berlin
BEGIN:VEVENT
UID:34356230-6562-4635-b032-636538633238
DTSTAMP:20260421T053925Z
DESCRIPTION:
DTSTART:20260426T193000
DTEND:20260426T220000
SUMMARY:Offene Kirche
END:VEVENT
END:VCALENDAR
