BEGIN:VCALENDAR
VERSION:2.0
PRODID:-//81.201.148.31//NONSGML kigkonsult.se iCalcreator 2.41.92//
CALSCALE:GREGORIAN
METHOD:PUBLISH
UID:33636436-6431-4639-a265-633965303465
X-WR-CALNAME:KOKOS IMPORT Theatertermine
X-WR-CALDESC:
X-WR-TIMEZONE:Europe/Berlin
BEGIN:VEVENT
UID:36303165-3430-4330-b632-643962643337
DTSTAMP:20260421T054034Z
DESCRIPTION:
DTSTART:20260503T193000
DTEND:20260503T220000
SUMMARY:Offene Kirche
END:VEVENT
END:VCALENDAR
