BEGIN:VCALENDAR
VERSION:2.0
PRODID:-//81.201.148.31//NONSGML kigkonsult.se iCalcreator 2.41.92//
CALSCALE:GREGORIAN
METHOD:PUBLISH
UID:66633934-6331-4634-b266-356662633563
X-WR-CALNAME:KOKOS IMPORT Theatertermine
X-WR-CALDESC:
X-WR-TIMEZONE:Europe/Berlin
BEGIN:VEVENT
UID:63386262-3232-4561-b564-653365386633
DTSTAMP:20260421T154125Z
DESCRIPTION:
DTSTART:20260510T193000
DTEND:20260510T220000
SUMMARY:Offene Kirche
END:VEVENT
END:VCALENDAR
