BEGIN:VCALENDAR
VERSION:2.0
PRODID:-//81.201.148.31//NONSGML kigkonsult.se iCalcreator 2.41.92//
CALSCALE:GREGORIAN
METHOD:PUBLISH
UID:61633063-3566-4265-a362-613862653663
X-WR-CALNAME:KOKOS IMPORT Theatertermine
X-WR-CALDESC:
X-WR-TIMEZONE:Europe/Berlin
BEGIN:VEVENT
UID:35613066-3764-4133-b136-376138333061
DTSTAMP:20260423T103951Z
DESCRIPTION:
DTSTART:20261110T100000
DTEND:20261110T120000
SUMMARY:Offene Kirche
END:VEVENT
END:VCALENDAR
