BEGIN:VCALENDAR
VERSION:2.0
PRODID:-//81.201.148.31//NONSGML kigkonsult.se iCalcreator 2.41.92//
CALSCALE:GREGORIAN
METHOD:PUBLISH
UID:66306233-6365-4461-b365-643037343036
X-WR-CALNAME:KOKOS IMPORT Theatertermine
X-WR-CALDESC:
X-WR-TIMEZONE:Europe/Berlin
BEGIN:VEVENT
UID:39663361-3362-4530-a636-346338616134
DTSTAMP:20260423T093534Z
DESCRIPTION:
DTSTART:20261111T100000
DTEND:20261111T120000
SUMMARY:Offene Kirche
END:VEVENT
END:VCALENDAR
