BEGIN:VCALENDAR
VERSION:2.0
PRODID:-//81.201.148.31//NONSGML kigkonsult.se iCalcreator 2.41.92//
CALSCALE:GREGORIAN
METHOD:PUBLISH
UID:31643362-6332-4133-b830-326565643334
X-WR-CALNAME:KOKOS IMPORT Theatertermine
X-WR-CALDESC:
X-WR-TIMEZONE:Europe/Berlin
BEGIN:VEVENT
UID:38636630-3335-4332-b765-633766393431
DTSTAMP:20260421T143246Z
DESCRIPTION:
DTSTART:20260822T190000
DTEND:20260822T203000
SUMMARY:Orgel – Musik aus dem Augenblick II
END:VEVENT
END:VCALENDAR
