BEGIN:VCALENDAR
VERSION:2.0
PRODID:-//81.201.148.31//NONSGML kigkonsult.se iCalcreator 2.41.92//
CALSCALE:GREGORIAN
METHOD:PUBLISH
UID:31656538-6330-4033-b938-396637313139
X-WR-CALNAME:KOKOS IMPORT Theatertermine
X-WR-CALDESC:
X-WR-TIMEZONE:Europe/Berlin
BEGIN:VEVENT
UID:62626365-3232-4634-a634-323566363130
DTSTAMP:20260422T005628Z
DESCRIPTION:
DTSTART:20261107T190000
DTEND:20261107T203000
SUMMARY:Orgel – Musik aus dem Augenblick III
END:VEVENT
END:VCALENDAR
