BEGIN:VCALENDAR
VERSION:2.0
PRODID:-//81.201.148.31//NONSGML kigkonsult.se iCalcreator 2.41.92//
CALSCALE:GREGORIAN
METHOD:PUBLISH
UID:33336431-3036-4538-a562-653631646237
X-WR-CALNAME:KOKOS IMPORT Theatertermine
X-WR-CALDESC:
X-WR-TIMEZONE:Europe/Berlin
BEGIN:VEVENT
UID:32376666-3939-4531-b765-646237313561
DTSTAMP:20260421T060026Z
DESCRIPTION:
DTSTART:20260404T220000
DTEND:20260404T235500
SUMMARY:Osternacht
END:VEVENT
END:VCALENDAR
