BEGIN:VCALENDAR
VERSION:2.0
PRODID:-//81.201.148.31//NONSGML kigkonsult.se iCalcreator 2.41.92//
CALSCALE:GREGORIAN
METHOD:PUBLISH
UID:33313636-3164-4065-b537-396137616262
X-WR-CALNAME:KOKOS IMPORT Theatertermine
X-WR-CALDESC:
X-WR-TIMEZONE:Europe/Berlin
BEGIN:VEVENT
UID:63343134-3163-4638-a234-623934343234
DTSTAMP:20260421T182717Z
DESCRIPTION:
DTSTART:20260627T190000
DTEND:20260627T210000
SUMMARY:Romantische Begegnungen
END:VEVENT
END:VCALENDAR
