BEGIN:VCALENDAR
VERSION:2.0
PRODID:-//81.201.148.31//NONSGML kigkonsult.se iCalcreator 2.41.92//
CALSCALE:GREGORIAN
METHOD:PUBLISH
UID:36373333-6335-4139-a366-383838353661
X-WR-CALNAME:KOKOS IMPORT Theatertermine
X-WR-CALDESC:
X-WR-TIMEZONE:Europe/Berlin
BEGIN:VEVENT
UID:37393963-6136-4232-b064-386130366566
DTSTAMP:20260421T152449Z
DESCRIPTION:
DTSTART:20261226T160000
DTEND:20261226T170000
SUMMARY:SAINT-SAËNS – Oratorio de Noël
END:VEVENT
END:VCALENDAR
