BEGIN:VCALENDAR
VERSION:2.0
PRODID:-//81.201.148.31//NONSGML kigkonsult.se iCalcreator 2.41.92//
CALSCALE:GREGORIAN
METHOD:PUBLISH
UID:32643333-3063-4264-b534-663632333731
X-WR-CALNAME:KOKOS IMPORT Theatertermine
X-WR-CALDESC:
X-WR-TIMEZONE:Europe/Berlin
BEGIN:VEVENT
UID:32663763-3036-4535-a236-623430363835
DTSTAMP:20260421T091734Z
DESCRIPTION:
DTSTART:20260425T190000
DTEND:20260425T210000
SUMMARY:Saiten der Sehnsucht
END:VEVENT
END:VCALENDAR
