BEGIN:VCALENDAR
VERSION:2.0
PRODID:-//81.201.148.31//NONSGML kigkonsult.se iCalcreator 2.41.92//
CALSCALE:GREGORIAN
METHOD:PUBLISH
UID:38653039-6132-4338-b866-343961356361
X-WR-CALNAME:KOKOS IMPORT Theatertermine
X-WR-CALDESC:
X-WR-TIMEZONE:Europe/Berlin
BEGIN:VEVENT
UID:61366535-3730-4430-b764-613062663332
DTSTAMP:20260423T094430Z
DESCRIPTION:
DTSTART:20260225T080000
DTEND:20260225T090000
SUMMARY:Schulgottesdienst
END:VEVENT
END:VCALENDAR
