BEGIN:VCALENDAR
VERSION:2.0
PRODID:-//81.201.148.31//NONSGML kigkonsult.se iCalcreator 2.41.92//
CALSCALE:GREGORIAN
METHOD:PUBLISH
UID:61626632-3738-4631-a232-646636613332
X-WR-CALNAME:KOKOS IMPORT Theatertermine
X-WR-CALDESC:
X-WR-TIMEZONE:Europe/Berlin
BEGIN:VEVENT
UID:30663566-3334-4135-b466-366361326234
DTSTAMP:20260422T001119Z
DESCRIPTION:
DTSTART:20261031T190000
DTEND:20261031T210000
SUMMARY:Tastengeschichten
END:VEVENT
END:VCALENDAR
