BEGIN:VCALENDAR
VERSION:2.0
PRODID:-//81.201.148.31//NONSGML kigkonsult.se iCalcreator 2.41.92//
CALSCALE:GREGORIAN
METHOD:PUBLISH
UID:37396234-3461-4235-b566-326432393037
X-WR-CALNAME:KOKOS IMPORT Theatertermine
X-WR-CALDESC:
X-WR-TIMEZONE:Europe/Berlin
BEGIN:VEVENT
UID:66616265-3235-4433-b865-313735653962
DTSTAMP:20260423T094227Z
DESCRIPTION:
DTSTART:20260517T150000
DTEND:20260517T160000
SUMMARY:Taufgottesdienst
END:VEVENT
END:VCALENDAR
