BEGIN:VCALENDAR
VERSION:2.0
PRODID:-//81.201.148.31//NONSGML kigkonsult.se iCalcreator 2.41.92//
CALSCALE:GREGORIAN
METHOD:PUBLISH
UID:66326538-6630-4331-b536-303365623563
X-WR-CALNAME:KOKOS IMPORT Theatertermine
X-WR-CALDESC:
X-WR-TIMEZONE:Europe/Berlin
BEGIN:VEVENT
UID:34346166-6461-4034-b639-353632343663
DTSTAMP:20260423T093940Z
DESCRIPTION:
DTSTART:20260621T150000
DTEND:20260621T160000
SUMMARY:Taufgottesdienst
END:VEVENT
END:VCALENDAR
