BEGIN:VCALENDAR
VERSION:2.0
PRODID:-//81.201.148.31//NONSGML kigkonsult.se iCalcreator 2.41.92//
CALSCALE:GREGORIAN
METHOD:PUBLISH
UID:63326633-3764-4037-a363-323565663832
X-WR-CALNAME:KOKOS IMPORT Theatertermine
X-WR-CALDESC:
X-WR-TIMEZONE:Europe/Berlin
BEGIN:VEVENT
UID:39353133-6565-4465-a633-396666346530
DTSTAMP:20260421T060145Z
DESCRIPTION:
DTSTART:20260619T193000
DTEND:20260619T213000
SUMMARY:The King's Singers
END:VEVENT
END:VCALENDAR
