BEGIN:VCALENDAR
VERSION:2.0
PRODID:-//81.201.148.31//NONSGML kigkonsult.se iCalcreator 2.41.92//
CALSCALE:GREGORIAN
METHOD:PUBLISH
UID:37633831-3562-4538-b035-313334646437
X-WR-CALNAME:KOKOS IMPORT Theatertermine
X-WR-CALDESC:
X-WR-TIMEZONE:Europe/Berlin
BEGIN:VEVENT
UID:66653232-3836-4637-b864-323962363038
DTSTAMP:20260423T094031Z
DESCRIPTION:
DTSTART:20260919T103000
DTEND:20260919T113000
SUMMARY:Traugottesdienst
END:VEVENT
END:VCALENDAR
