BEGIN:VCALENDAR
VERSION:2.0
PRODID:-//81.201.148.31//NONSGML kigkonsult.se iCalcreator 2.41.92//
CALSCALE:GREGORIAN
METHOD:PUBLISH
UID:64376333-6532-4662-b736-363634653263
X-WR-CALNAME:KOKOS IMPORT Theatertermine
X-WR-CALDESC:
X-WR-TIMEZONE:Europe/Berlin
BEGIN:VEVENT
UID:65373032-3033-4236-b838-383333366465
DTSTAMP:20260423T111745Z
DESCRIPTION:
DTSTART:20260919T130000
DTEND:20260919T140000
SUMMARY:Traugottesdienst
END:VEVENT
END:VCALENDAR
