BEGIN:VCALENDAR
VERSION:2.0
PRODID:-//81.201.148.31//NONSGML kigkonsult.se iCalcreator 2.41.92//
CALSCALE:GREGORIAN
METHOD:PUBLISH
UID:38646231-3032-4033-a132-376561663631
X-WR-CALNAME:KOKOS IMPORT Theatertermine
X-WR-CALDESC:
X-WR-TIMEZONE:Europe/Berlin
BEGIN:VEVENT
UID:65663461-3239-4234-b763-633039373238
DTSTAMP:20260421T072330Z
DESCRIPTION:
DTSTART:20261129T210000
DTEND:20261129T223000
SUMMARY:Über Sternen muss er wohnen
END:VEVENT
END:VCALENDAR
