BEGIN:VCALENDAR
VERSION:2.0
PRODID:-//81.201.148.31//NONSGML kigkonsult.se iCalcreator 2.41.92//
CALSCALE:GREGORIAN
METHOD:PUBLISH
UID:63666261-6131-4164-b063-316662636631
X-WR-CALNAME:KOKOS IMPORT Theatertermine
X-WR-CALDESC:
X-WR-TIMEZONE:Europe/Berlin
BEGIN:VEVENT
UID:38616531-3034-4164-b738-376339666237
DTSTAMP:20260421T121154Z
DESCRIPTION:
DTSTART:20261206T210000
DTEND:20261206T223000
SUMMARY:Über Sternen muss er wohnen
END:VEVENT
END:VCALENDAR
