BEGIN:VCALENDAR
VERSION:2.0
PRODID:-//81.201.148.31//NONSGML kigkonsult.se iCalcreator 2.41.92//
CALSCALE:GREGORIAN
METHOD:PUBLISH
UID:62333161-3039-4937-a539-333666623931
X-WR-CALNAME:KOKOS IMPORT Theatertermine
X-WR-CALDESC:
X-WR-TIMEZONE:Europe/Berlin
BEGIN:VEVENT
UID:38656361-3961-4162-a365-333131633331
DTSTAMP:20260421T062923Z
DESCRIPTION:
DTSTART:20261213T210000
DTEND:20261213T223000
SUMMARY:Über Sternen muss er wohnen
END:VEVENT
END:VCALENDAR
