BEGIN:VCALENDAR
VERSION:2.0
PRODID:-//81.201.148.31//NONSGML kigkonsult.se iCalcreator 2.41.92//
CALSCALE:GREGORIAN
METHOD:PUBLISH
UID:34346236-3862-4133-a562-366632373235
X-WR-CALNAME:KOKOS IMPORT Theatertermine
X-WR-CALDESC:
X-WR-TIMEZONE:Europe/Berlin
BEGIN:VEVENT
UID:33643162-3539-4139-b835-343532313963
DTSTAMP:20260421T123050Z
DESCRIPTION:
DTSTART:20261220T210000
DTEND:20261220T223000
SUMMARY:Über Sternen muss er wohnen
END:VEVENT
END:VCALENDAR
