BEGIN:VCALENDAR
VERSION:2.0
PRODID:-//81.201.148.31//NONSGML kigkonsult.se iCalcreator 2.41.92//
CALSCALE:GREGORIAN
METHOD:PUBLISH
UID:39633664-3763-4561-b531-633437336633
X-WR-CALNAME:KOKOS IMPORT Theatertermine
X-WR-CALDESC:
X-WR-TIMEZONE:Europe/Berlin
BEGIN:VEVENT
UID:38336538-3236-4331-b833-653731653039
DTSTAMP:20260421T120305Z
DESCRIPTION:
DTSTART:20251130T210000
DTEND:20251130T223000
SUMMARY:Über Sternen muss er wohnen I
END:VEVENT
END:VCALENDAR
