BEGIN:VCALENDAR
VERSION:2.0
PRODID:-//81.201.148.31//NONSGML kigkonsult.se iCalcreator 2.41.92//
CALSCALE:GREGORIAN
METHOD:PUBLISH
UID:31393434-6664-4236-b733-326132333831
X-WR-CALNAME:KOKOS IMPORT Theatertermine
X-WR-CALDESC:
X-WR-TIMEZONE:Europe/Berlin
BEGIN:VEVENT
UID:34366432-3931-4730-b939-343335383635
DTSTAMP:20260421T115956Z
DESCRIPTION:
DTSTART:20251207T210000
DTEND:20251207T223000
SUMMARY:Über Sternen muss er wohnen II
END:VEVENT
END:VCALENDAR
