BEGIN:VCALENDAR
VERSION:2.0
PRODID:-//81.201.148.31//NONSGML kigkonsult.se iCalcreator 2.41.92//
CALSCALE:GREGORIAN
METHOD:PUBLISH
UID:31663638-3937-4631-a331-363934373334
X-WR-CALNAME:KOKOS IMPORT Theatertermine
X-WR-CALDESC:
X-WR-TIMEZONE:Europe/Berlin
BEGIN:VEVENT
UID:38303133-3962-4234-b931-393431303536
DTSTAMP:20260419T180224Z
DESCRIPTION:
DTSTART:20251214T210000
DTEND:20251214T223000
SUMMARY:Über Sternen muss er wohnen III
END:VEVENT
END:VCALENDAR
