BEGIN:VCALENDAR
VERSION:2.0
PRODID:-//81.201.148.31//NONSGML kigkonsult.se iCalcreator 2.41.92//
CALSCALE:GREGORIAN
METHOD:PUBLISH
UID:66376539-3863-4835-b066-303138613038
X-WR-CALNAME:KOKOS IMPORT Theatertermine
X-WR-CALDESC:
X-WR-TIMEZONE:Europe/Berlin
BEGIN:VEVENT
UID:61383739-3961-4966-b738-626165623262
DTSTAMP:20260421T120517Z
DESCRIPTION:
DTSTART:20251221T210000
DTEND:20251221T223000
SUMMARY:Über Sternen muss er wohnen IV
END:VEVENT
END:VCALENDAR
