BEGIN:VCALENDAR
VERSION:2.0
PRODID:-//81.201.148.31//NONSGML kigkonsult.se iCalcreator 2.41.92//
CALSCALE:GREGORIAN
METHOD:PUBLISH
UID:34303830-3538-4833-a362-313030343537
X-WR-CALNAME:KOKOS IMPORT Theatertermine
X-WR-CALDESC:
X-WR-TIMEZONE:Europe/Berlin
BEGIN:VEVENT
UID:35306639-3465-4137-b161-623664633234
DTSTAMP:20260421T085949Z
DESCRIPTION:
DTSTART:20261129T160000
DTEND:20261129T170000
SUMMARY:Weihnachten im Frühbarock
END:VEVENT
END:VCALENDAR
