BEGIN:VCALENDAR
VERSION:2.0
PRODID:-//81.201.148.31//NONSGML kigkonsult.se iCalcreator 2.41.92//
CALSCALE:GREGORIAN
METHOD:PUBLISH
UID:63633863-6435-4135-a664-633163363431
X-WR-CALNAME:KOKOS IMPORT Theatertermine
X-WR-CALDESC:
X-WR-TIMEZONE:Europe/Berlin
BEGIN:VEVENT
UID:62373563-3438-4234-b930-303865613532
DTSTAMP:20260421T072706Z
DESCRIPTION:
DTSTART:20261214T200000
DTEND:20261214T213000
SUMMARY:Weihnachtliches Orgelkonzert
END:VEVENT
END:VCALENDAR
