BEGIN:VCALENDAR
VERSION:2.0
PRODID:-//81.201.148.31//NONSGML kigkonsult.se iCalcreator 2.41.92//
CALSCALE:GREGORIAN
METHOD:PUBLISH
UID:39346163-6535-4535-b131-663539343864
X-WR-CALNAME:KOKOS IMPORT Theatertermine
X-WR-CALDESC:
X-WR-TIMEZONE:Europe/Berlin
BEGIN:VEVENT
UID:30393664-6630-4161-b866-396431656164
DTSTAMP:20260423T105220Z
DESCRIPTION:
DTSTART:20260110T120000
DTEND:20260110T130000
SUMMARY:Wort & Orgelklang
END:VEVENT
END:VCALENDAR
