BEGIN:VCALENDAR
VERSION:2.0
PRODID:-//81.201.148.31//NONSGML kigkonsult.se iCalcreator 2.41.92//
CALSCALE:GREGORIAN
METHOD:PUBLISH
UID:64363532-6434-4634-b733-643663656264
X-WR-CALNAME:KOKOS IMPORT Theatertermine
X-WR-CALDESC:
X-WR-TIMEZONE:Europe/Berlin
BEGIN:VEVENT
UID:66373630-3265-4431-a263-386435386438
DTSTAMP:20260423T113507Z
DESCRIPTION:
DTSTART:20260203T120000
DTEND:20260203T130000
SUMMARY:Wort & Orgelklang
END:VEVENT
END:VCALENDAR
