BEGIN:VCALENDAR
VERSION:2.0
PRODID:-//81.201.148.31//NONSGML kigkonsult.se iCalcreator 2.41.92//
CALSCALE:GREGORIAN
METHOD:PUBLISH
UID:39363461-3937-4537-a336-393533333439
X-WR-CALNAME:KOKOS IMPORT Theatertermine
X-WR-CALDESC:
X-WR-TIMEZONE:Europe/Berlin
BEGIN:VEVENT
UID:37376539-3735-4735-b265-623237313434
DTSTAMP:20260423T182443Z
DESCRIPTION:
DTSTART:20260204T120000
DTEND:20260204T130000
SUMMARY:Wort & Orgelklang
END:VEVENT
END:VCALENDAR
