BEGIN:VCALENDAR
VERSION:2.0
PRODID:-//81.201.148.31//NONSGML kigkonsult.se iCalcreator 2.41.92//
CALSCALE:GREGORIAN
METHOD:PUBLISH
UID:61346166-6237-4063-b238-356639396663
X-WR-CALNAME:KOKOS IMPORT Theatertermine
X-WR-CALDESC:
X-WR-TIMEZONE:Europe/Berlin
BEGIN:VEVENT
UID:65656330-3766-4537-b863-623931666437
DTSTAMP:20260423T094951Z
DESCRIPTION:
DTSTART:20260205T120000
DTEND:20260205T130000
SUMMARY:Wort & Orgelklang
END:VEVENT
END:VCALENDAR
