BEGIN:VCALENDAR
VERSION:2.0
PRODID:-//81.201.148.31//NONSGML kigkonsult.se iCalcreator 2.41.92//
CALSCALE:GREGORIAN
METHOD:PUBLISH
UID:64333362-3864-4134-a263-306461376462
X-WR-CALNAME:KOKOS IMPORT Theatertermine
X-WR-CALDESC:
X-WR-TIMEZONE:Europe/Berlin
BEGIN:VEVENT
UID:64366533-3632-4564-a237-623137663834
DTSTAMP:20260423T150958Z
DESCRIPTION:
DTSTART:20260221T120000
DTEND:20260221T130000
SUMMARY:Wort & Orgelklang
END:VEVENT
END:VCALENDAR
