BEGIN:VCALENDAR
VERSION:2.0
PRODID:-//81.201.148.31//NONSGML kigkonsult.se iCalcreator 2.41.92//
CALSCALE:GREGORIAN
METHOD:PUBLISH
UID:37663136-3730-4363-b466-666136303134
X-WR-CALNAME:KOKOS IMPORT Theatertermine
X-WR-CALDESC:
X-WR-TIMEZONE:Europe/Berlin
BEGIN:VEVENT
UID:32376433-6138-4730-a238-346264336233
DTSTAMP:20260423T182042Z
DESCRIPTION:
DTSTART:20260225T120000
DTEND:20260225T130000
SUMMARY:Wort & Orgelklang
END:VEVENT
END:VCALENDAR
