BEGIN:VCALENDAR
VERSION:2.0
PRODID:-//81.201.148.31//NONSGML kigkonsult.se iCalcreator 2.41.92//
CALSCALE:GREGORIAN
METHOD:PUBLISH
UID:34323932-3236-4938-b132-626531303133
X-WR-CALNAME:KOKOS IMPORT Theatertermine
X-WR-CALDESC:
X-WR-TIMEZONE:Europe/Berlin
BEGIN:VEVENT
UID:64663635-3336-4531-b331-326430636235
DTSTAMP:20260423T093907Z
DESCRIPTION:
DTSTART:20260303T120000
DTEND:20260303T130000
SUMMARY:Wort & Orgelklang
END:VEVENT
END:VCALENDAR
