BEGIN:VCALENDAR
VERSION:2.0
PRODID:-//81.201.148.31//NONSGML kigkonsult.se iCalcreator 2.41.92//
CALSCALE:GREGORIAN
METHOD:PUBLISH
UID:66633836-3062-4561-b739-373163303232
X-WR-CALNAME:KOKOS IMPORT Theatertermine
X-WR-CALDESC:
X-WR-TIMEZONE:Europe/Berlin
BEGIN:VEVENT
UID:32316534-3465-4066-a263-623637313862
DTSTAMP:20260423T153239Z
DESCRIPTION:
DTSTART:20260304T120000
DTEND:20260304T130000
SUMMARY:Wort & Orgelklang
END:VEVENT
END:VCALENDAR
