BEGIN:VCALENDAR
VERSION:2.0
PRODID:-//81.201.148.31//NONSGML kigkonsult.se iCalcreator 2.41.92//
CALSCALE:GREGORIAN
METHOD:PUBLISH
UID:31333565-6235-4862-b738-626466393838
X-WR-CALNAME:KOKOS IMPORT Theatertermine
X-WR-CALDESC:
X-WR-TIMEZONE:Europe/Berlin
BEGIN:VEVENT
UID:65626663-3638-4337-a666-656439336164
DTSTAMP:20260423T120242Z
DESCRIPTION:
DTSTART:20260307T120000
DTEND:20260307T130000
SUMMARY:Wort & Orgelklang
END:VEVENT
END:VCALENDAR
