BEGIN:VCALENDAR
VERSION:2.0
PRODID:-//81.201.148.31//NONSGML kigkonsult.se iCalcreator 2.41.92//
CALSCALE:GREGORIAN
METHOD:PUBLISH
UID:61656561-6637-4139-a630-346332653763
X-WR-CALNAME:KOKOS IMPORT Theatertermine
X-WR-CALDESC:
X-WR-TIMEZONE:Europe/Berlin
BEGIN:VEVENT
UID:34373237-3732-4331-b632-336362303765
DTSTAMP:20260419T161335Z
DESCRIPTION:
DTSTART:20260309T120000
DTEND:20260309T130000
SUMMARY:Wort & Orgelklang
END:VEVENT
END:VCALENDAR
