BEGIN:VCALENDAR
VERSION:2.0
PRODID:-//81.201.148.31//NONSGML kigkonsult.se iCalcreator 2.41.92//
CALSCALE:GREGORIAN
METHOD:PUBLISH
UID:65323034-6534-4531-a565-363564333233
X-WR-CALNAME:KOKOS IMPORT Theatertermine
X-WR-CALDESC:
X-WR-TIMEZONE:Europe/Berlin
BEGIN:VEVENT
UID:66623334-6335-4537-b934-663431643966
DTSTAMP:20260420T055852Z
DESCRIPTION:
DTSTART:20260317T120000
DTEND:20260317T130000
SUMMARY:Wort & Orgelklang
END:VEVENT
END:VCALENDAR
