BEGIN:VCALENDAR
VERSION:2.0
PRODID:-//81.201.148.31//NONSGML kigkonsult.se iCalcreator 2.41.92//
CALSCALE:GREGORIAN
METHOD:PUBLISH
UID:32663437-3961-4635-b832-323566616366
X-WR-CALNAME:KOKOS IMPORT Theatertermine
X-WR-CALDESC:
X-WR-TIMEZONE:Europe/Berlin
BEGIN:VEVENT
UID:66333730-6638-4839-b336-316435653734
DTSTAMP:20260420T060720Z
DESCRIPTION:
DTSTART:20260319T120000
DTEND:20260319T130000
SUMMARY:Wort & Orgelklang
END:VEVENT
END:VCALENDAR
